BEGIN:VCALENDAR
VERSION:2.0
PRODID:icalendar-ruby
CALSCALE:GREGORIAN
METHOD:PUBLISH
BEGIN:VTIMEZONE
TZID:Australia/Perth
BEGIN:STANDARD
DTSTART:20090329T020000
TZOFFSETFROM:+0900
TZOFFSETTO:+0800
TZNAME:AWST
END:STANDARD
END:VTIMEZONE
BEGIN:VEVENT
DTSTAMP:20260423T100712Z
UID:inspection_3007244
DTSTART;TZID=Australia/Perth:20260502T110000
DTEND;TZID=Australia/Perth:20260502T113000
CLASS:PUBLIC
CREATED:20260421T104011
DESCRIPTION: 
LAST-MODIFIED:20260421T104011
LOCATION:208 / 1 Davies Road\, CLAREMONT WA 6010\, Australia
SUMMARY:208 / 1 Davies Road\,  Inspection
URL;VALUE=URI:https://www.az-property.com.au/
END:VEVENT
END:VCALENDAR
