BEGIN:VCALENDAR
VERSION:2.0
PRODID:icalendar-ruby
CALSCALE:GREGORIAN
METHOD:PUBLISH
BEGIN:VTIMEZONE
TZID:Australia/Perth
BEGIN:STANDARD
DTSTART:20090329T020000
TZOFFSETFROM:+0900
TZOFFSETTO:+0800
TZNAME:AWST
END:STANDARD
END:VTIMEZONE
BEGIN:VEVENT
DTSTAMP:20260423T084909Z
UID:inspection_3007655
DTSTART;TZID=Australia/Perth:20260425T101500
DTEND;TZID=Australia/Perth:20260425T104500
CLASS:PUBLIC
CREATED:20260421T123655
DESCRIPTION: 
LAST-MODIFIED:20260421T123655
LOCATION:1 / 4 Aquaviva Circle\, VIVEASH WA 6056\, Australia
SUMMARY:1 / 4 Aquaviva Circle\,  Inspection
URL;VALUE=URI:https://www.az-property.com.au/
END:VEVENT
END:VCALENDAR
