BEGIN:VCALENDAR
VERSION:2.0
PRODID:icalendar-ruby
CALSCALE:GREGORIAN
METHOD:PUBLISH
BEGIN:VTIMEZONE
TZID:Australia/Perth
BEGIN:STANDARD
DTSTART:20090329T020000
TZOFFSETFROM:+0900
TZOFFSETTO:+0800
TZNAME:AWST
END:STANDARD
END:VTIMEZONE
BEGIN:VEVENT
DTSTAMP:20260422T080428Z
UID:inspection_3009364
DTSTART;TZID=Australia/Perth:20260502T103000
DTEND;TZID=Australia/Perth:20260502T110000
CLASS:PUBLIC
CREATED:20260422T115131
DESCRIPTION: 
LAST-MODIFIED:20260422T115131
LOCATION:7 / 28 Kingston Avenue\, WEST PERTH WA 6005\, Australia
SUMMARY:7 / 28 Kingston Avenue\,  Inspection
URL;VALUE=URI:https://www.az-property.com.au/
END:VEVENT
END:VCALENDAR
